BEGIN:VCALENDAR
VERSION:2.0
PRODID:-//Buffs Club Mount Isa - ECPv6.15.20//NONSGML v1.0//EN
CALSCALE:GREGORIAN
METHOD:PUBLISH
X-WR-CALNAME:Buffs Club Mount Isa
X-ORIGINAL-URL:https://buffs.com.au
X-WR-CALDESC:Events for Buffs Club Mount Isa
REFRESH-INTERVAL;VALUE=DURATION:PT1H
X-Robots-Tag:noindex
X-PUBLISHED-TTL:PT1H
BEGIN:VTIMEZONE
TZID:Australia/Brisbane
BEGIN:STANDARD
TZOFFSETFROM:+1000
TZOFFSETTO:+1000
TZNAME:AEST
DTSTART:20240101T000000
END:STANDARD
END:VTIMEZONE
BEGIN:VEVENT
DTSTART;TZID=Australia/Brisbane:20250324T200000
DTEND;TZID=Australia/Brisbane:20250324T213000
DTSTAMP:20260423T123446
CREATED:20250122T233659Z
LAST-MODIFIED:20250122T233659Z
UID:10004349-1742846400-1742851800@buffs.com.au
SUMMARY:15 Minute Fortune
DESCRIPTION:Time: From 8pm-9:30pm \nWhen: EVERY  Monday & Wednesday \nEnter: Play gaming with an active member card inserted from 8pm to earn entries. \nLocation: Gaming Lounge \nExtra Details: Win a share in $500 CASH every Monday & Wednesday
URL:https://buffs.com.au/event/15-minute-fortune/2025-03-24/
CATEGORIES:Gaming,Promotions
ATTACH;FMTTYPE=image/png:https://buffs.com.au/wp-content/uploads/2025/01/BUFFS-15-Minute-Fortune-TV-HOR.png
END:VEVENT
END:VCALENDAR