BEGIN:VCALENDAR
VERSION:2.0
PRODID:-//Buffs Club Mount Isa - ECPv6.15.20//NONSGML v1.0//EN
CALSCALE:GREGORIAN
METHOD:PUBLISH
X-ORIGINAL-URL:https://buffs.com.au
X-WR-CALDESC:Events for Buffs Club Mount Isa
REFRESH-INTERVAL;VALUE=DURATION:PT1H
X-Robots-Tag:noindex
X-PUBLISHED-TTL:PT1H
BEGIN:VTIMEZONE
TZID:Australia/Brisbane
BEGIN:STANDARD
TZOFFSETFROM:+1000
TZOFFSETTO:+1000
TZNAME:AEST
DTSTART:20240101T000000
END:STANDARD
END:VTIMEZONE
BEGIN:VEVENT
DTSTART;TZID=Australia/Brisbane:20250325T180000
DTEND;TZID=Australia/Brisbane:20250325T210000
DTSTAMP:20260423T140403
CREATED:20250228T004922Z
LAST-MODIFIED:20250228T004922Z
UID:10004536-1742925600-1742936400@buffs.com.au
SUMMARY:Harvest of Riches
DESCRIPTION:Harvest the rewards at Buffs Club! 💰🌾Join us for Harvest of Riches every Tuesday for your chance to win up to $200 cash! 🎉 \nPlay gaming from 6pm to earn entries\, and the draws run every 15mins from 7pm – 9pm! Will you be the next big winner? 🍀🐷✨ \nT&Cs Apply. Member Promotion Only. Gamble Responsibly.“
URL:https://buffs.com.au/event/harvest-of-riches/2025-03-25/
CATEGORIES:Gaming
ATTACH;FMTTYPE=image/png:https://buffs.com.au/wp-content/uploads/2025/02/BUFFS-Harvest-of-Riches-TV-HOR.png
END:VEVENT
END:VCALENDAR