BEGIN:VCALENDAR
VERSION:2.0
PRODID:-//Buffs Club Mount Isa - ECPv6.15.20//NONSGML v1.0//EN
CALSCALE:GREGORIAN
METHOD:PUBLISH
X-WR-CALNAME:Buffs Club Mount Isa
X-ORIGINAL-URL:https://buffs.com.au
X-WR-CALDESC:Events for Buffs Club Mount Isa
REFRESH-INTERVAL;VALUE=DURATION:PT1H
X-Robots-Tag:noindex
X-PUBLISHED-TTL:PT1H
BEGIN:VTIMEZONE
TZID:UTC
BEGIN:STANDARD
TZOFFSETFROM:+0000
TZOFFSETTO:+0000
TZNAME:UTC
DTSTART:20240101T000000
END:STANDARD
END:VTIMEZONE
BEGIN:VTIMEZONE
TZID:Australia/Brisbane
BEGIN:STANDARD
TZOFFSETFROM:+1000
TZOFFSETTO:+1000
TZNAME:AEST
DTSTART:20240101T000000
END:STANDARD
END:VTIMEZONE
BEGIN:VEVENT
DTSTART;TZID=UTC:20250330T120000
DTEND;TZID=UTC:20250330T203000
DTSTAMP:20260423T202717
CREATED:20240826T213732Z
LAST-MODIFIED:20240826T213732Z
UID:10003431-1743336000-1743366600@buffs.com.au
SUMMARY:Buffs Bday Bash
DESCRIPTION:Time: From 12pm\nWhen: Last Sunday of the Month\nLocation: The Buffs Club\nExtra Details: It’s celebration time! Visit us on the last Sunday of your Birthday month for Buffs’ Birthday Bash! Instant WIN Prizes from 12pm + up to $250 Cash in the 2nd Chance Draw at 8:30pm. Join in on the birthday FUN! \n*Members must be present to win
URL:https://buffs.com.au/event/buffs-bday-bash/2025-03-30/
CATEGORIES:Promotions
ATTACH;FMTTYPE=image/png:https://buffs.com.au/wp-content/uploads/2024/08/BUFFS-Buffs-Birthday-Bash-TV-HOR.png
END:VEVENT
BEGIN:VEVENT
DTSTART;TZID=Australia/Brisbane:20250330T130000
DTEND;TZID=Australia/Brisbane:20250330T180000
DTSTAMP:20260423T202717
CREATED:20250219T061744Z
LAST-MODIFIED:20250219T061744Z
UID:10004521-1743339600-1743357600@buffs.com.au
SUMMARY:Easter Egg-Stravaganza
DESCRIPTION:Get ready for our egg-citing new major promotion\, starting Sunday 9th March and running all the way until Easter Sunday (20-Apr)! \n\nWe’re giving you the chance to win a share in over $13\,000 CASH! \n\nHop on in and eat\, drink\, swipe & play to earn entries into our Easter Egg-stravaganza Draws!\n  Draws every Sunday from 2pm – 5pm  $5\,000 Guaranteed Major Draw on Easter Sunday at 6pm\n\nIt’s time to shake your bunny tail and get amongst the winnings! Who’s ready to score some egg-stra cash? \nT&C’s Apply. Member Promotion Only. Please Gamble Responsibly.
URL:https://buffs.com.au/event/easter-egg-stravaganza/2025-03-30/
CATEGORIES:Events
ATTACH;FMTTYPE=image/png:https://buffs.com.au/wp-content/uploads/2025/02/BUFFS-Easter-Egg-Stravaganza-TV-HOR.png
END:VEVENT
END:VCALENDAR