BEGIN:VCALENDAR
VERSION:2.0
PRODID:-//Buffs Club Mount Isa - ECPv6.15.20//NONSGML v1.0//EN
CALSCALE:GREGORIAN
METHOD:PUBLISH
X-WR-CALNAME:Buffs Club Mount Isa
X-ORIGINAL-URL:https://buffs.com.au
X-WR-CALDESC:Events for Buffs Club Mount Isa
REFRESH-INTERVAL;VALUE=DURATION:PT1H
X-Robots-Tag:noindex
X-PUBLISHED-TTL:PT1H
BEGIN:VTIMEZONE
TZID:Australia/Brisbane
BEGIN:STANDARD
TZOFFSETFROM:+1000
TZOFFSETTO:+1000
TZNAME:AEST
DTSTART:20250101T000000
END:STANDARD
END:VTIMEZONE
BEGIN:VTIMEZONE
TZID:UTC
BEGIN:STANDARD
TZOFFSETFROM:+0000
TZOFFSETTO:+0000
TZNAME:UTC
DTSTART:20250101T000000
END:STANDARD
END:VTIMEZONE
BEGIN:VEVENT
DTSTART;TZID=Australia/Brisbane:20261016T060000
DTEND;TZID=Australia/Brisbane:20261016T200000
DTSTAMP:20260422T062134
CREATED:20260417T001640Z
LAST-MODIFIED:20260417T001750Z
UID:10006101-1792130400-1792180800@buffs.com.au
SUMMARY:Jelly Jackpot
DESCRIPTION:5 members will win up to $500 CASH EACH! On every Friday draws every half hour from 6PM. \nEntries earnt every Friday from 5PM with $10 GAMING PLAY. \nTerms and conditions apply. Gamble responsibly.
URL:https://buffs.com.au/event/jelly-jackpot/2026-10-16/
ATTACH;FMTTYPE=image/jpeg:https://buffs.com.au/wp-content/uploads/2026/04/26032026013852-BuffsClub-JellyJackpot_16x9L.jpg
END:VEVENT
BEGIN:VEVENT
DTSTART;TZID=Australia/Brisbane:20261014T170000
DTEND;TZID=Australia/Brisbane:20261014T190000
DTSTAMP:20260422T062134
CREATED:20260416T234622Z
LAST-MODIFIED:20260417T001526Z
UID:10006032-1791997200-1792004400@buffs.com.au
SUMMARY:Love of Cash
DESCRIPTION:5 members will win up to $200 CASH EACH! On every Wednesday draws every half hour from 5PM. \nEntries earnt every Wednesday from 4PM with $10 GAMING PLAY. \nTerms and conditions apply. Gamble responsibly.
URL:https://buffs.com.au/event/love-of-cash/2026-10-14/
ATTACH;FMTTYPE=image/jpeg:https://buffs.com.au/wp-content/uploads/2026/04/25032026065032-BuffsClub-FortheLoveofCash_16x9L.jpg
END:VEVENT
BEGIN:VEVENT
DTSTART;TZID=Australia/Brisbane:20261014T110000
DTEND;TZID=Australia/Brisbane:20261014T150000
DTSTAMP:20260422T062134
CREATED:20251023T051526Z
LAST-MODIFIED:20251023T051526Z
UID:10005170-1791975600-1791990000@buffs.com.au
SUMMARY:Cherry Bomb
DESCRIPTION:Time: From 1pm-3pm \nWhen: EVERY Wednesday \nEnter: Play gaming from 11am with your membership card to enter \nLocation: Gaming Lounge \nExtra Details: Roll the dice to move along the Cherry Bomb prize board and win up to $200 CASH
URL:https://buffs.com.au/event/cherry-bomb/2026-10-14/
CATEGORIES:Gaming,Promotions
ATTACH;FMTTYPE=image/png:https://buffs.com.au/wp-content/uploads/2025/10/BUFFS-Cherry-Bomb-TV-HOR-3.png
END:VEVENT
BEGIN:VEVENT
DTSTART;TZID=Australia/Brisbane:20261013T140000
DTEND;TZID=Australia/Brisbane:20261013T180000
DTSTAMP:20260422T062134
CREATED:20251023T051321Z
LAST-MODIFIED:20251023T051321Z
UID:10004907-1791900000-1791914400@buffs.com.au
SUMMARY:Bug Bucks
DESCRIPTION:Time: From 4pm-6pm \nWhen: EVERY Tuesday \nEnter: Play gaming from 2pm with your membership card to enter \nLocation: Gaming Lounge \nExtra Details: Select a card & a bug then spin the wheel to win a share in up to $350 CASH
URL:https://buffs.com.au/event/bug-bucks/2026-10-13/
CATEGORIES:Gaming,Promotions
ATTACH;FMTTYPE=image/png:https://buffs.com.au/wp-content/uploads/2025/10/BUFFS-Bug-Bucks-TV-HOR-3.png
END:VEVENT
BEGIN:VEVENT
DTSTART;TZID=Australia/Brisbane:20261010T203000
DTEND;TZID=Australia/Brisbane:20261010T233000
DTSTAMP:20260422T062134
CREATED:20251023T051856Z
LAST-MODIFIED:20251023T051856Z
UID:10005432-1791664200-1791675000@buffs.com.au
SUMMARY:Earth\, Wind and Fortunes
DESCRIPTION:Time: From 9:30pm-12am \nWhen: EVERY Saturday \nEnter: Play gaming from 8:30pm with your membership card to enter \nLocation: Gaming Lounge \nExtra Details: Select a card from the prize board to win a share in up to $600 CASH
URL:https://buffs.com.au/event/earth-wind-and-fortunes/2026-10-10/
CATEGORIES:Gaming,Promotions
ATTACH;FMTTYPE=image/png:https://buffs.com.au/wp-content/uploads/2025/10/BUFFS-Earth-Wind-Fortunes-TV-HOR.png
END:VEVENT
BEGIN:VEVENT
DTSTART;TZID=Australia/Brisbane:20261009T060000
DTEND;TZID=Australia/Brisbane:20261009T200000
DTSTAMP:20260422T062134
CREATED:20260417T001640Z
LAST-MODIFIED:20260417T001750Z
UID:10006100-1791525600-1791576000@buffs.com.au
SUMMARY:Jelly Jackpot
DESCRIPTION:5 members will win up to $500 CASH EACH! On every Friday draws every half hour from 6PM. \nEntries earnt every Friday from 5PM with $10 GAMING PLAY. \nTerms and conditions apply. Gamble responsibly.
URL:https://buffs.com.au/event/jelly-jackpot/2026-10-09/
ATTACH;FMTTYPE=image/jpeg:https://buffs.com.au/wp-content/uploads/2026/04/26032026013852-BuffsClub-JellyJackpot_16x9L.jpg
END:VEVENT
BEGIN:VEVENT
DTSTART;TZID=Australia/Brisbane:20261007T170000
DTEND;TZID=Australia/Brisbane:20261007T190000
DTSTAMP:20260422T062134
CREATED:20260416T234622Z
LAST-MODIFIED:20260417T001526Z
UID:10006031-1791392400-1791399600@buffs.com.au
SUMMARY:Love of Cash
DESCRIPTION:5 members will win up to $200 CASH EACH! On every Wednesday draws every half hour from 5PM. \nEntries earnt every Wednesday from 4PM with $10 GAMING PLAY. \nTerms and conditions apply. Gamble responsibly.
URL:https://buffs.com.au/event/love-of-cash/2026-10-07/
ATTACH;FMTTYPE=image/jpeg:https://buffs.com.au/wp-content/uploads/2026/04/25032026065032-BuffsClub-FortheLoveofCash_16x9L.jpg
END:VEVENT
BEGIN:VEVENT
DTSTART;TZID=Australia/Brisbane:20261007T110000
DTEND;TZID=Australia/Brisbane:20261007T150000
DTSTAMP:20260422T062134
CREATED:20251023T051526Z
LAST-MODIFIED:20251023T051526Z
UID:10005169-1791370800-1791385200@buffs.com.au
SUMMARY:Cherry Bomb
DESCRIPTION:Time: From 1pm-3pm \nWhen: EVERY Wednesday \nEnter: Play gaming from 11am with your membership card to enter \nLocation: Gaming Lounge \nExtra Details: Roll the dice to move along the Cherry Bomb prize board and win up to $200 CASH
URL:https://buffs.com.au/event/cherry-bomb/2026-10-07/
CATEGORIES:Gaming,Promotions
ATTACH;FMTTYPE=image/png:https://buffs.com.au/wp-content/uploads/2025/10/BUFFS-Cherry-Bomb-TV-HOR-3.png
END:VEVENT
BEGIN:VEVENT
DTSTART;TZID=Australia/Brisbane:20261006T140000
DTEND;TZID=Australia/Brisbane:20261006T180000
DTSTAMP:20260422T062134
CREATED:20251023T051321Z
LAST-MODIFIED:20251023T051321Z
UID:10004906-1791295200-1791309600@buffs.com.au
SUMMARY:Bug Bucks
DESCRIPTION:Time: From 4pm-6pm \nWhen: EVERY Tuesday \nEnter: Play gaming from 2pm with your membership card to enter \nLocation: Gaming Lounge \nExtra Details: Select a card & a bug then spin the wheel to win a share in up to $350 CASH
URL:https://buffs.com.au/event/bug-bucks/2026-10-06/
CATEGORIES:Gaming,Promotions
ATTACH;FMTTYPE=image/png:https://buffs.com.au/wp-content/uploads/2025/10/BUFFS-Bug-Bucks-TV-HOR-3.png
END:VEVENT
BEGIN:VEVENT
DTSTART;TZID=Australia/Brisbane:20261003T203000
DTEND;TZID=Australia/Brisbane:20261003T233000
DTSTAMP:20260422T062134
CREATED:20251023T051856Z
LAST-MODIFIED:20251023T051856Z
UID:10005431-1791059400-1791070200@buffs.com.au
SUMMARY:Earth\, Wind and Fortunes
DESCRIPTION:Time: From 9:30pm-12am \nWhen: EVERY Saturday \nEnter: Play gaming from 8:30pm with your membership card to enter \nLocation: Gaming Lounge \nExtra Details: Select a card from the prize board to win a share in up to $600 CASH
URL:https://buffs.com.au/event/earth-wind-and-fortunes/2026-10-03/
CATEGORIES:Gaming,Promotions
ATTACH;FMTTYPE=image/png:https://buffs.com.au/wp-content/uploads/2025/10/BUFFS-Earth-Wind-Fortunes-TV-HOR.png
END:VEVENT
BEGIN:VEVENT
DTSTART;TZID=Australia/Brisbane:20261002T060000
DTEND;TZID=Australia/Brisbane:20261002T200000
DTSTAMP:20260422T062134
CREATED:20260417T001640Z
LAST-MODIFIED:20260417T001750Z
UID:10006099-1790920800-1790971200@buffs.com.au
SUMMARY:Jelly Jackpot
DESCRIPTION:5 members will win up to $500 CASH EACH! On every Friday draws every half hour from 6PM. \nEntries earnt every Friday from 5PM with $10 GAMING PLAY. \nTerms and conditions apply. Gamble responsibly.
URL:https://buffs.com.au/event/jelly-jackpot/2026-10-02/
ATTACH;FMTTYPE=image/jpeg:https://buffs.com.au/wp-content/uploads/2026/04/26032026013852-BuffsClub-JellyJackpot_16x9L.jpg
END:VEVENT
BEGIN:VEVENT
DTSTART;TZID=Australia/Brisbane:20260930T170000
DTEND;TZID=Australia/Brisbane:20260930T190000
DTSTAMP:20260422T062134
CREATED:20260416T234622Z
LAST-MODIFIED:20260417T001526Z
UID:10006030-1790787600-1790794800@buffs.com.au
SUMMARY:Love of Cash
DESCRIPTION:5 members will win up to $200 CASH EACH! On every Wednesday draws every half hour from 5PM. \nEntries earnt every Wednesday from 4PM with $10 GAMING PLAY. \nTerms and conditions apply. Gamble responsibly.
URL:https://buffs.com.au/event/love-of-cash/2026-09-30/
ATTACH;FMTTYPE=image/jpeg:https://buffs.com.au/wp-content/uploads/2026/04/25032026065032-BuffsClub-FortheLoveofCash_16x9L.jpg
END:VEVENT
BEGIN:VEVENT
DTSTART;TZID=Australia/Brisbane:20260930T110000
DTEND;TZID=Australia/Brisbane:20260930T150000
DTSTAMP:20260422T062134
CREATED:20251023T051526Z
LAST-MODIFIED:20251023T051526Z
UID:10005168-1790766000-1790780400@buffs.com.au
SUMMARY:Cherry Bomb
DESCRIPTION:Time: From 1pm-3pm \nWhen: EVERY Wednesday \nEnter: Play gaming from 11am with your membership card to enter \nLocation: Gaming Lounge \nExtra Details: Roll the dice to move along the Cherry Bomb prize board and win up to $200 CASH
URL:https://buffs.com.au/event/cherry-bomb/2026-09-30/
CATEGORIES:Gaming,Promotions
ATTACH;FMTTYPE=image/png:https://buffs.com.au/wp-content/uploads/2025/10/BUFFS-Cherry-Bomb-TV-HOR-3.png
END:VEVENT
BEGIN:VEVENT
DTSTART;TZID=Australia/Brisbane:20260929T210000
DTEND;TZID=Australia/Brisbane:20260929T233000
DTSTAMP:20260422T062134
CREATED:20260402T003840Z
LAST-MODIFIED:20260402T004621Z
UID:10005835-1790715600-1790724600@buffs.com.au
SUMMARY:Late Night Moolah
DESCRIPTION:6 members will win a share of $1\,000 CASH! On the last Tuesday of the month draws every half hour from 9PM. \nEntries earnt every day from 8PM throughout the month with GAMING PLAY. \nTerms and conditions apply. Gamble responsibly.
URL:https://buffs.com.au/event/late-night-moolah/2026-09-29/
ATTACH;FMTTYPE=image/jpeg:https://buffs.com.au/wp-content/uploads/2026/04/BCMI-12_-_Late_Night_Moolah_-_16x9_Landscape.jpg
END:VEVENT
BEGIN:VEVENT
DTSTART;TZID=Australia/Brisbane:20260929T140000
DTEND;TZID=Australia/Brisbane:20260929T180000
DTSTAMP:20260422T062134
CREATED:20251023T051321Z
LAST-MODIFIED:20251023T051321Z
UID:10004905-1790690400-1790704800@buffs.com.au
SUMMARY:Bug Bucks
DESCRIPTION:Time: From 4pm-6pm \nWhen: EVERY Tuesday \nEnter: Play gaming from 2pm with your membership card to enter \nLocation: Gaming Lounge \nExtra Details: Select a card & a bug then spin the wheel to win a share in up to $350 CASH
URL:https://buffs.com.au/event/bug-bucks/2026-09-29/
CATEGORIES:Gaming,Promotions
ATTACH;FMTTYPE=image/png:https://buffs.com.au/wp-content/uploads/2025/10/BUFFS-Bug-Bucks-TV-HOR-3.png
END:VEVENT
BEGIN:VEVENT
DTSTART;TZID=UTC:20260927T120000
DTEND;TZID=UTC:20260927T203000
DTSTAMP:20260422T062134
CREATED:20240826T213732Z
LAST-MODIFIED:20240826T213732Z
UID:10003449-1790510400-1790541000@buffs.com.au
SUMMARY:Buffs Bday Bash
DESCRIPTION:Time: From 12pm\nWhen: Last Sunday of the Month\nLocation: The Buffs Club\nExtra Details: It’s celebration time! Visit us on the last Sunday of your Birthday month for Buffs’ Birthday Bash! Instant WIN Prizes from 12pm + up to $250 Cash in the 2nd Chance Draw at 8:30pm. Join in on the birthday FUN! \n*Members must be present to win
URL:https://buffs.com.au/event/buffs-bday-bash/2026-09-27/
CATEGORIES:Promotions
ATTACH;FMTTYPE=image/png:https://buffs.com.au/wp-content/uploads/2024/08/BUFFS-Buffs-Birthday-Bash-TV-HOR.png
END:VEVENT
BEGIN:VEVENT
DTSTART;TZID=Australia/Brisbane:20260926T203000
DTEND;TZID=Australia/Brisbane:20260926T233000
DTSTAMP:20260422T062134
CREATED:20251023T051856Z
LAST-MODIFIED:20251023T051856Z
UID:10005430-1790454600-1790465400@buffs.com.au
SUMMARY:Earth\, Wind and Fortunes
DESCRIPTION:Time: From 9:30pm-12am \nWhen: EVERY Saturday \nEnter: Play gaming from 8:30pm with your membership card to enter \nLocation: Gaming Lounge \nExtra Details: Select a card from the prize board to win a share in up to $600 CASH
URL:https://buffs.com.au/event/earth-wind-and-fortunes/2026-09-26/
CATEGORIES:Gaming,Promotions
ATTACH;FMTTYPE=image/png:https://buffs.com.au/wp-content/uploads/2025/10/BUFFS-Earth-Wind-Fortunes-TV-HOR.png
END:VEVENT
BEGIN:VEVENT
DTSTART;TZID=Australia/Brisbane:20260925T060000
DTEND;TZID=Australia/Brisbane:20260925T200000
DTSTAMP:20260422T062134
CREATED:20260417T001640Z
LAST-MODIFIED:20260417T001750Z
UID:10006098-1790316000-1790366400@buffs.com.au
SUMMARY:Jelly Jackpot
DESCRIPTION:5 members will win up to $500 CASH EACH! On every Friday draws every half hour from 6PM. \nEntries earnt every Friday from 5PM with $10 GAMING PLAY. \nTerms and conditions apply. Gamble responsibly.
URL:https://buffs.com.au/event/jelly-jackpot/2026-09-25/
ATTACH;FMTTYPE=image/jpeg:https://buffs.com.au/wp-content/uploads/2026/04/26032026013852-BuffsClub-JellyJackpot_16x9L.jpg
END:VEVENT
BEGIN:VEVENT
DTSTART;TZID=Australia/Brisbane:20260923T170000
DTEND;TZID=Australia/Brisbane:20260923T190000
DTSTAMP:20260422T062134
CREATED:20260416T234622Z
LAST-MODIFIED:20260417T001526Z
UID:10006029-1790182800-1790190000@buffs.com.au
SUMMARY:Love of Cash
DESCRIPTION:5 members will win up to $200 CASH EACH! On every Wednesday draws every half hour from 5PM. \nEntries earnt every Wednesday from 4PM with $10 GAMING PLAY. \nTerms and conditions apply. Gamble responsibly.
URL:https://buffs.com.au/event/love-of-cash/2026-09-23/
ATTACH;FMTTYPE=image/jpeg:https://buffs.com.au/wp-content/uploads/2026/04/25032026065032-BuffsClub-FortheLoveofCash_16x9L.jpg
END:VEVENT
BEGIN:VEVENT
DTSTART;TZID=Australia/Brisbane:20260923T110000
DTEND;TZID=Australia/Brisbane:20260923T150000
DTSTAMP:20260422T062134
CREATED:20251023T051526Z
LAST-MODIFIED:20251023T051526Z
UID:10005167-1790161200-1790175600@buffs.com.au
SUMMARY:Cherry Bomb
DESCRIPTION:Time: From 1pm-3pm \nWhen: EVERY Wednesday \nEnter: Play gaming from 11am with your membership card to enter \nLocation: Gaming Lounge \nExtra Details: Roll the dice to move along the Cherry Bomb prize board and win up to $200 CASH
URL:https://buffs.com.au/event/cherry-bomb/2026-09-23/
CATEGORIES:Gaming,Promotions
ATTACH;FMTTYPE=image/png:https://buffs.com.au/wp-content/uploads/2025/10/BUFFS-Cherry-Bomb-TV-HOR-3.png
END:VEVENT
BEGIN:VEVENT
DTSTART;TZID=Australia/Brisbane:20260922T140000
DTEND;TZID=Australia/Brisbane:20260922T180000
DTSTAMP:20260422T062134
CREATED:20251023T051321Z
LAST-MODIFIED:20251023T051321Z
UID:10004904-1790085600-1790100000@buffs.com.au
SUMMARY:Bug Bucks
DESCRIPTION:Time: From 4pm-6pm \nWhen: EVERY Tuesday \nEnter: Play gaming from 2pm with your membership card to enter \nLocation: Gaming Lounge \nExtra Details: Select a card & a bug then spin the wheel to win a share in up to $350 CASH
URL:https://buffs.com.au/event/bug-bucks/2026-09-22/
CATEGORIES:Gaming,Promotions
ATTACH;FMTTYPE=image/png:https://buffs.com.au/wp-content/uploads/2025/10/BUFFS-Bug-Bucks-TV-HOR-3.png
END:VEVENT
BEGIN:VEVENT
DTSTART;TZID=Australia/Brisbane:20260919T203000
DTEND;TZID=Australia/Brisbane:20260919T233000
DTSTAMP:20260422T062134
CREATED:20251023T051856Z
LAST-MODIFIED:20251023T051856Z
UID:10005429-1789849800-1789860600@buffs.com.au
SUMMARY:Earth\, Wind and Fortunes
DESCRIPTION:Time: From 9:30pm-12am \nWhen: EVERY Saturday \nEnter: Play gaming from 8:30pm with your membership card to enter \nLocation: Gaming Lounge \nExtra Details: Select a card from the prize board to win a share in up to $600 CASH
URL:https://buffs.com.au/event/earth-wind-and-fortunes/2026-09-19/
CATEGORIES:Gaming,Promotions
ATTACH;FMTTYPE=image/png:https://buffs.com.au/wp-content/uploads/2025/10/BUFFS-Earth-Wind-Fortunes-TV-HOR.png
END:VEVENT
BEGIN:VEVENT
DTSTART;TZID=Australia/Brisbane:20260918T060000
DTEND;TZID=Australia/Brisbane:20260918T200000
DTSTAMP:20260422T062134
CREATED:20260417T001640Z
LAST-MODIFIED:20260417T001750Z
UID:10006097-1789711200-1789761600@buffs.com.au
SUMMARY:Jelly Jackpot
DESCRIPTION:5 members will win up to $500 CASH EACH! On every Friday draws every half hour from 6PM. \nEntries earnt every Friday from 5PM with $10 GAMING PLAY. \nTerms and conditions apply. Gamble responsibly.
URL:https://buffs.com.au/event/jelly-jackpot/2026-09-18/
ATTACH;FMTTYPE=image/jpeg:https://buffs.com.au/wp-content/uploads/2026/04/26032026013852-BuffsClub-JellyJackpot_16x9L.jpg
END:VEVENT
BEGIN:VEVENT
DTSTART;TZID=Australia/Brisbane:20260916T170000
DTEND;TZID=Australia/Brisbane:20260916T190000
DTSTAMP:20260422T062134
CREATED:20260416T234622Z
LAST-MODIFIED:20260417T001526Z
UID:10006028-1789578000-1789585200@buffs.com.au
SUMMARY:Love of Cash
DESCRIPTION:5 members will win up to $200 CASH EACH! On every Wednesday draws every half hour from 5PM. \nEntries earnt every Wednesday from 4PM with $10 GAMING PLAY. \nTerms and conditions apply. Gamble responsibly.
URL:https://buffs.com.au/event/love-of-cash/2026-09-16/
ATTACH;FMTTYPE=image/jpeg:https://buffs.com.au/wp-content/uploads/2026/04/25032026065032-BuffsClub-FortheLoveofCash_16x9L.jpg
END:VEVENT
BEGIN:VEVENT
DTSTART;TZID=Australia/Brisbane:20260916T110000
DTEND;TZID=Australia/Brisbane:20260916T150000
DTSTAMP:20260422T062134
CREATED:20251023T051526Z
LAST-MODIFIED:20251023T051526Z
UID:10005166-1789556400-1789570800@buffs.com.au
SUMMARY:Cherry Bomb
DESCRIPTION:Time: From 1pm-3pm \nWhen: EVERY Wednesday \nEnter: Play gaming from 11am with your membership card to enter \nLocation: Gaming Lounge \nExtra Details: Roll the dice to move along the Cherry Bomb prize board and win up to $200 CASH
URL:https://buffs.com.au/event/cherry-bomb/2026-09-16/
CATEGORIES:Gaming,Promotions
ATTACH;FMTTYPE=image/png:https://buffs.com.au/wp-content/uploads/2025/10/BUFFS-Cherry-Bomb-TV-HOR-3.png
END:VEVENT
BEGIN:VEVENT
DTSTART;TZID=Australia/Brisbane:20260915T140000
DTEND;TZID=Australia/Brisbane:20260915T180000
DTSTAMP:20260422T062134
CREATED:20251023T051321Z
LAST-MODIFIED:20251023T051321Z
UID:10004903-1789480800-1789495200@buffs.com.au
SUMMARY:Bug Bucks
DESCRIPTION:Time: From 4pm-6pm \nWhen: EVERY Tuesday \nEnter: Play gaming from 2pm with your membership card to enter \nLocation: Gaming Lounge \nExtra Details: Select a card & a bug then spin the wheel to win a share in up to $350 CASH
URL:https://buffs.com.au/event/bug-bucks/2026-09-15/
CATEGORIES:Gaming,Promotions
ATTACH;FMTTYPE=image/png:https://buffs.com.au/wp-content/uploads/2025/10/BUFFS-Bug-Bucks-TV-HOR-3.png
END:VEVENT
BEGIN:VEVENT
DTSTART;TZID=Australia/Brisbane:20260912T203000
DTEND;TZID=Australia/Brisbane:20260912T233000
DTSTAMP:20260422T062134
CREATED:20251023T051856Z
LAST-MODIFIED:20251023T051856Z
UID:10005428-1789245000-1789255800@buffs.com.au
SUMMARY:Earth\, Wind and Fortunes
DESCRIPTION:Time: From 9:30pm-12am \nWhen: EVERY Saturday \nEnter: Play gaming from 8:30pm with your membership card to enter \nLocation: Gaming Lounge \nExtra Details: Select a card from the prize board to win a share in up to $600 CASH
URL:https://buffs.com.au/event/earth-wind-and-fortunes/2026-09-12/
CATEGORIES:Gaming,Promotions
ATTACH;FMTTYPE=image/png:https://buffs.com.au/wp-content/uploads/2025/10/BUFFS-Earth-Wind-Fortunes-TV-HOR.png
END:VEVENT
BEGIN:VEVENT
DTSTART;TZID=Australia/Brisbane:20260911T060000
DTEND;TZID=Australia/Brisbane:20260911T200000
DTSTAMP:20260422T062134
CREATED:20260417T001640Z
LAST-MODIFIED:20260417T001750Z
UID:10006096-1789106400-1789156800@buffs.com.au
SUMMARY:Jelly Jackpot
DESCRIPTION:5 members will win up to $500 CASH EACH! On every Friday draws every half hour from 6PM. \nEntries earnt every Friday from 5PM with $10 GAMING PLAY. \nTerms and conditions apply. Gamble responsibly.
URL:https://buffs.com.au/event/jelly-jackpot/2026-09-11/
ATTACH;FMTTYPE=image/jpeg:https://buffs.com.au/wp-content/uploads/2026/04/26032026013852-BuffsClub-JellyJackpot_16x9L.jpg
END:VEVENT
BEGIN:VEVENT
DTSTART;TZID=Australia/Brisbane:20260909T170000
DTEND;TZID=Australia/Brisbane:20260909T190000
DTSTAMP:20260422T062134
CREATED:20260416T234622Z
LAST-MODIFIED:20260417T001526Z
UID:10006027-1788973200-1788980400@buffs.com.au
SUMMARY:Love of Cash
DESCRIPTION:5 members will win up to $200 CASH EACH! On every Wednesday draws every half hour from 5PM. \nEntries earnt every Wednesday from 4PM with $10 GAMING PLAY. \nTerms and conditions apply. Gamble responsibly.
URL:https://buffs.com.au/event/love-of-cash/2026-09-09/
ATTACH;FMTTYPE=image/jpeg:https://buffs.com.au/wp-content/uploads/2026/04/25032026065032-BuffsClub-FortheLoveofCash_16x9L.jpg
END:VEVENT
BEGIN:VEVENT
DTSTART;TZID=Australia/Brisbane:20260909T110000
DTEND;TZID=Australia/Brisbane:20260909T150000
DTSTAMP:20260422T062134
CREATED:20251023T051526Z
LAST-MODIFIED:20251023T051526Z
UID:10005165-1788951600-1788966000@buffs.com.au
SUMMARY:Cherry Bomb
DESCRIPTION:Time: From 1pm-3pm \nWhen: EVERY Wednesday \nEnter: Play gaming from 11am with your membership card to enter \nLocation: Gaming Lounge \nExtra Details: Roll the dice to move along the Cherry Bomb prize board and win up to $200 CASH
URL:https://buffs.com.au/event/cherry-bomb/2026-09-09/
CATEGORIES:Gaming,Promotions
ATTACH;FMTTYPE=image/png:https://buffs.com.au/wp-content/uploads/2025/10/BUFFS-Cherry-Bomb-TV-HOR-3.png
END:VEVENT
END:VCALENDAR