BEGIN:VCALENDAR
VERSION:2.0
PRODID:-//Buffs Club Mount Isa - ECPv6.15.20//NONSGML v1.0//EN
CALSCALE:GREGORIAN
METHOD:PUBLISH
X-WR-CALNAME:Buffs Club Mount Isa
X-ORIGINAL-URL:https://buffs.com.au
X-WR-CALDESC:Events for Buffs Club Mount Isa
REFRESH-INTERVAL;VALUE=DURATION:PT1H
X-Robots-Tag:noindex
X-PUBLISHED-TTL:PT1H
BEGIN:VTIMEZONE
TZID:Australia/Brisbane
BEGIN:STANDARD
TZOFFSETFROM:+1000
TZOFFSETTO:+1000
TZNAME:AEST
DTSTART:20250101T000000
END:STANDARD
END:VTIMEZONE
BEGIN:VTIMEZONE
TZID:UTC
BEGIN:STANDARD
TZOFFSETFROM:+0000
TZOFFSETTO:+0000
TZNAME:UTC
DTSTART:20250101T000000
END:STANDARD
END:VTIMEZONE
BEGIN:VEVENT
DTSTART;TZID=Australia/Brisbane:20260826T110000
DTEND;TZID=Australia/Brisbane:20260826T150000
DTSTAMP:20260422T124309
CREATED:20251023T051526Z
LAST-MODIFIED:20251023T051526Z
UID:10005163-1787742000-1787756400@buffs.com.au
SUMMARY:Cherry Bomb
DESCRIPTION:Time: From 1pm-3pm \nWhen: EVERY Wednesday \nEnter: Play gaming from 11am with your membership card to enter \nLocation: Gaming Lounge \nExtra Details: Roll the dice to move along the Cherry Bomb prize board and win up to $200 CASH
URL:https://buffs.com.au/event/cherry-bomb/2026-08-26/
CATEGORIES:Gaming,Promotions
ATTACH;FMTTYPE=image/png:https://buffs.com.au/wp-content/uploads/2025/10/BUFFS-Cherry-Bomb-TV-HOR-3.png
END:VEVENT
BEGIN:VEVENT
DTSTART;TZID=Australia/Brisbane:20260825T210000
DTEND;TZID=Australia/Brisbane:20260825T233000
DTSTAMP:20260422T124309
CREATED:20260402T003840Z
LAST-MODIFIED:20260402T004621Z
UID:10005778-1787691600-1787700600@buffs.com.au
SUMMARY:Late Night Moolah
DESCRIPTION:6 members will win a share of $1\,000 CASH! On the last Tuesday of the month draws every half hour from 9PM. \nEntries earnt every day from 8PM throughout the month with GAMING PLAY. \nTerms and conditions apply. Gamble responsibly.
URL:https://buffs.com.au/event/late-night-moolah/2026-08-25/
ATTACH;FMTTYPE=image/jpeg:https://buffs.com.au/wp-content/uploads/2026/04/BCMI-12_-_Late_Night_Moolah_-_16x9_Landscape.jpg
END:VEVENT
BEGIN:VEVENT
DTSTART;TZID=Australia/Brisbane:20260825T140000
DTEND;TZID=Australia/Brisbane:20260825T180000
DTSTAMP:20260422T124309
CREATED:20251023T051321Z
LAST-MODIFIED:20251023T051321Z
UID:10004900-1787666400-1787680800@buffs.com.au
SUMMARY:Bug Bucks
DESCRIPTION:Time: From 4pm-6pm \nWhen: EVERY Tuesday \nEnter: Play gaming from 2pm with your membership card to enter \nLocation: Gaming Lounge \nExtra Details: Select a card & a bug then spin the wheel to win a share in up to $350 CASH
URL:https://buffs.com.au/event/bug-bucks/2026-08-25/
CATEGORIES:Gaming,Promotions
ATTACH;FMTTYPE=image/png:https://buffs.com.au/wp-content/uploads/2025/10/BUFFS-Bug-Bucks-TV-HOR-3.png
END:VEVENT
BEGIN:VEVENT
DTSTART;TZID=Australia/Brisbane:20260822T203000
DTEND;TZID=Australia/Brisbane:20260822T233000
DTSTAMP:20260422T124309
CREATED:20251023T051856Z
LAST-MODIFIED:20251023T051856Z
UID:10005425-1787430600-1787441400@buffs.com.au
SUMMARY:Earth\, Wind and Fortunes
DESCRIPTION:Time: From 9:30pm-12am \nWhen: EVERY Saturday \nEnter: Play gaming from 8:30pm with your membership card to enter \nLocation: Gaming Lounge \nExtra Details: Select a card from the prize board to win a share in up to $600 CASH
URL:https://buffs.com.au/event/earth-wind-and-fortunes/2026-08-22/
CATEGORIES:Gaming,Promotions
ATTACH;FMTTYPE=image/png:https://buffs.com.au/wp-content/uploads/2025/10/BUFFS-Earth-Wind-Fortunes-TV-HOR.png
END:VEVENT
BEGIN:VEVENT
DTSTART;TZID=Australia/Brisbane:20260821T060000
DTEND;TZID=Australia/Brisbane:20260821T200000
DTSTAMP:20260422T124309
CREATED:20260417T001640Z
LAST-MODIFIED:20260417T001750Z
UID:10006093-1787292000-1787342400@buffs.com.au
SUMMARY:Jelly Jackpot
DESCRIPTION:5 members will win up to $500 CASH EACH! On every Friday draws every half hour from 6PM. \nEntries earnt every Friday from 5PM with $10 GAMING PLAY. \nTerms and conditions apply. Gamble responsibly.
URL:https://buffs.com.au/event/jelly-jackpot/2026-08-21/
ATTACH;FMTTYPE=image/jpeg:https://buffs.com.au/wp-content/uploads/2026/04/26032026013852-BuffsClub-JellyJackpot_16x9L.jpg
END:VEVENT
BEGIN:VEVENT
DTSTART;TZID=Australia/Brisbane:20260819T170000
DTEND;TZID=Australia/Brisbane:20260819T190000
DTSTAMP:20260422T124309
CREATED:20260416T234622Z
LAST-MODIFIED:20260417T001526Z
UID:10006024-1787158800-1787166000@buffs.com.au
SUMMARY:Love of Cash
DESCRIPTION:5 members will win up to $200 CASH EACH! On every Wednesday draws every half hour from 5PM. \nEntries earnt every Wednesday from 4PM with $10 GAMING PLAY. \nTerms and conditions apply. Gamble responsibly.
URL:https://buffs.com.au/event/love-of-cash/2026-08-19/
ATTACH;FMTTYPE=image/jpeg:https://buffs.com.au/wp-content/uploads/2026/04/25032026065032-BuffsClub-FortheLoveofCash_16x9L.jpg
END:VEVENT
BEGIN:VEVENT
DTSTART;TZID=Australia/Brisbane:20260819T110000
DTEND;TZID=Australia/Brisbane:20260819T150000
DTSTAMP:20260422T124309
CREATED:20251023T051526Z
LAST-MODIFIED:20251023T051526Z
UID:10005162-1787137200-1787151600@buffs.com.au
SUMMARY:Cherry Bomb
DESCRIPTION:Time: From 1pm-3pm \nWhen: EVERY Wednesday \nEnter: Play gaming from 11am with your membership card to enter \nLocation: Gaming Lounge \nExtra Details: Roll the dice to move along the Cherry Bomb prize board and win up to $200 CASH
URL:https://buffs.com.au/event/cherry-bomb/2026-08-19/
CATEGORIES:Gaming,Promotions
ATTACH;FMTTYPE=image/png:https://buffs.com.au/wp-content/uploads/2025/10/BUFFS-Cherry-Bomb-TV-HOR-3.png
END:VEVENT
BEGIN:VEVENT
DTSTART;TZID=Australia/Brisbane:20260818T140000
DTEND;TZID=Australia/Brisbane:20260818T180000
DTSTAMP:20260422T124309
CREATED:20251023T051321Z
LAST-MODIFIED:20251023T051321Z
UID:10004899-1787061600-1787076000@buffs.com.au
SUMMARY:Bug Bucks
DESCRIPTION:Time: From 4pm-6pm \nWhen: EVERY Tuesday \nEnter: Play gaming from 2pm with your membership card to enter \nLocation: Gaming Lounge \nExtra Details: Select a card & a bug then spin the wheel to win a share in up to $350 CASH
URL:https://buffs.com.au/event/bug-bucks/2026-08-18/
CATEGORIES:Gaming,Promotions
ATTACH;FMTTYPE=image/png:https://buffs.com.au/wp-content/uploads/2025/10/BUFFS-Bug-Bucks-TV-HOR-3.png
END:VEVENT
BEGIN:VEVENT
DTSTART;TZID=Australia/Brisbane:20260815T203000
DTEND;TZID=Australia/Brisbane:20260815T233000
DTSTAMP:20260422T124309
CREATED:20251023T051856Z
LAST-MODIFIED:20251023T051856Z
UID:10005424-1786825800-1786836600@buffs.com.au
SUMMARY:Earth\, Wind and Fortunes
DESCRIPTION:Time: From 9:30pm-12am \nWhen: EVERY Saturday \nEnter: Play gaming from 8:30pm with your membership card to enter \nLocation: Gaming Lounge \nExtra Details: Select a card from the prize board to win a share in up to $600 CASH
URL:https://buffs.com.au/event/earth-wind-and-fortunes/2026-08-15/
CATEGORIES:Gaming,Promotions
ATTACH;FMTTYPE=image/png:https://buffs.com.au/wp-content/uploads/2025/10/BUFFS-Earth-Wind-Fortunes-TV-HOR.png
END:VEVENT
BEGIN:VEVENT
DTSTART;TZID=Australia/Brisbane:20260814T060000
DTEND;TZID=Australia/Brisbane:20260814T200000
DTSTAMP:20260422T124309
CREATED:20260417T001640Z
LAST-MODIFIED:20260417T001750Z
UID:10006092-1786687200-1786737600@buffs.com.au
SUMMARY:Jelly Jackpot
DESCRIPTION:5 members will win up to $500 CASH EACH! On every Friday draws every half hour from 6PM. \nEntries earnt every Friday from 5PM with $10 GAMING PLAY. \nTerms and conditions apply. Gamble responsibly.
URL:https://buffs.com.au/event/jelly-jackpot/2026-08-14/
ATTACH;FMTTYPE=image/jpeg:https://buffs.com.au/wp-content/uploads/2026/04/26032026013852-BuffsClub-JellyJackpot_16x9L.jpg
END:VEVENT
BEGIN:VEVENT
DTSTART;TZID=Australia/Brisbane:20260812T170000
DTEND;TZID=Australia/Brisbane:20260812T190000
DTSTAMP:20260422T124309
CREATED:20260416T234622Z
LAST-MODIFIED:20260417T001526Z
UID:10006023-1786554000-1786561200@buffs.com.au
SUMMARY:Love of Cash
DESCRIPTION:5 members will win up to $200 CASH EACH! On every Wednesday draws every half hour from 5PM. \nEntries earnt every Wednesday from 4PM with $10 GAMING PLAY. \nTerms and conditions apply. Gamble responsibly.
URL:https://buffs.com.au/event/love-of-cash/2026-08-12/
ATTACH;FMTTYPE=image/jpeg:https://buffs.com.au/wp-content/uploads/2026/04/25032026065032-BuffsClub-FortheLoveofCash_16x9L.jpg
END:VEVENT
BEGIN:VEVENT
DTSTART;TZID=Australia/Brisbane:20260812T110000
DTEND;TZID=Australia/Brisbane:20260812T150000
DTSTAMP:20260422T124309
CREATED:20251023T051526Z
LAST-MODIFIED:20251023T051526Z
UID:10005161-1786532400-1786546800@buffs.com.au
SUMMARY:Cherry Bomb
DESCRIPTION:Time: From 1pm-3pm \nWhen: EVERY Wednesday \nEnter: Play gaming from 11am with your membership card to enter \nLocation: Gaming Lounge \nExtra Details: Roll the dice to move along the Cherry Bomb prize board and win up to $200 CASH
URL:https://buffs.com.au/event/cherry-bomb/2026-08-12/
CATEGORIES:Gaming,Promotions
ATTACH;FMTTYPE=image/png:https://buffs.com.au/wp-content/uploads/2025/10/BUFFS-Cherry-Bomb-TV-HOR-3.png
END:VEVENT
BEGIN:VEVENT
DTSTART;TZID=Australia/Brisbane:20260811T140000
DTEND;TZID=Australia/Brisbane:20260811T180000
DTSTAMP:20260422T124309
CREATED:20251023T051321Z
LAST-MODIFIED:20251023T051321Z
UID:10004898-1786456800-1786471200@buffs.com.au
SUMMARY:Bug Bucks
DESCRIPTION:Time: From 4pm-6pm \nWhen: EVERY Tuesday \nEnter: Play gaming from 2pm with your membership card to enter \nLocation: Gaming Lounge \nExtra Details: Select a card & a bug then spin the wheel to win a share in up to $350 CASH
URL:https://buffs.com.au/event/bug-bucks/2026-08-11/
CATEGORIES:Gaming,Promotions
ATTACH;FMTTYPE=image/png:https://buffs.com.au/wp-content/uploads/2025/10/BUFFS-Bug-Bucks-TV-HOR-3.png
END:VEVENT
BEGIN:VEVENT
DTSTART;TZID=Australia/Brisbane:20260808T203000
DTEND;TZID=Australia/Brisbane:20260808T233000
DTSTAMP:20260422T124309
CREATED:20251023T051856Z
LAST-MODIFIED:20251023T051856Z
UID:10005423-1786221000-1786231800@buffs.com.au
SUMMARY:Earth\, Wind and Fortunes
DESCRIPTION:Time: From 9:30pm-12am \nWhen: EVERY Saturday \nEnter: Play gaming from 8:30pm with your membership card to enter \nLocation: Gaming Lounge \nExtra Details: Select a card from the prize board to win a share in up to $600 CASH
URL:https://buffs.com.au/event/earth-wind-and-fortunes/2026-08-08/
CATEGORIES:Gaming,Promotions
ATTACH;FMTTYPE=image/png:https://buffs.com.au/wp-content/uploads/2025/10/BUFFS-Earth-Wind-Fortunes-TV-HOR.png
END:VEVENT
BEGIN:VEVENT
DTSTART;TZID=Australia/Brisbane:20260807T060000
DTEND;TZID=Australia/Brisbane:20260807T200000
DTSTAMP:20260422T124309
CREATED:20260417T001640Z
LAST-MODIFIED:20260417T001750Z
UID:10006091-1786082400-1786132800@buffs.com.au
SUMMARY:Jelly Jackpot
DESCRIPTION:5 members will win up to $500 CASH EACH! On every Friday draws every half hour from 6PM. \nEntries earnt every Friday from 5PM with $10 GAMING PLAY. \nTerms and conditions apply. Gamble responsibly.
URL:https://buffs.com.au/event/jelly-jackpot/2026-08-07/
ATTACH;FMTTYPE=image/jpeg:https://buffs.com.au/wp-content/uploads/2026/04/26032026013852-BuffsClub-JellyJackpot_16x9L.jpg
END:VEVENT
BEGIN:VEVENT
DTSTART;TZID=Australia/Brisbane:20260805T170000
DTEND;TZID=Australia/Brisbane:20260805T190000
DTSTAMP:20260422T124309
CREATED:20260416T234622Z
LAST-MODIFIED:20260417T001526Z
UID:10006022-1785949200-1785956400@buffs.com.au
SUMMARY:Love of Cash
DESCRIPTION:5 members will win up to $200 CASH EACH! On every Wednesday draws every half hour from 5PM. \nEntries earnt every Wednesday from 4PM with $10 GAMING PLAY. \nTerms and conditions apply. Gamble responsibly.
URL:https://buffs.com.au/event/love-of-cash/2026-08-05/
ATTACH;FMTTYPE=image/jpeg:https://buffs.com.au/wp-content/uploads/2026/04/25032026065032-BuffsClub-FortheLoveofCash_16x9L.jpg
END:VEVENT
BEGIN:VEVENT
DTSTART;TZID=Australia/Brisbane:20260805T110000
DTEND;TZID=Australia/Brisbane:20260805T150000
DTSTAMP:20260422T124309
CREATED:20251023T051526Z
LAST-MODIFIED:20251023T051526Z
UID:10005160-1785927600-1785942000@buffs.com.au
SUMMARY:Cherry Bomb
DESCRIPTION:Time: From 1pm-3pm \nWhen: EVERY Wednesday \nEnter: Play gaming from 11am with your membership card to enter \nLocation: Gaming Lounge \nExtra Details: Roll the dice to move along the Cherry Bomb prize board and win up to $200 CASH
URL:https://buffs.com.au/event/cherry-bomb/2026-08-05/
CATEGORIES:Gaming,Promotions
ATTACH;FMTTYPE=image/png:https://buffs.com.au/wp-content/uploads/2025/10/BUFFS-Cherry-Bomb-TV-HOR-3.png
END:VEVENT
BEGIN:VEVENT
DTSTART;TZID=Australia/Brisbane:20260804T140000
DTEND;TZID=Australia/Brisbane:20260804T180000
DTSTAMP:20260422T124309
CREATED:20251023T051321Z
LAST-MODIFIED:20251023T051321Z
UID:10004897-1785852000-1785866400@buffs.com.au
SUMMARY:Bug Bucks
DESCRIPTION:Time: From 4pm-6pm \nWhen: EVERY Tuesday \nEnter: Play gaming from 2pm with your membership card to enter \nLocation: Gaming Lounge \nExtra Details: Select a card & a bug then spin the wheel to win a share in up to $350 CASH
URL:https://buffs.com.au/event/bug-bucks/2026-08-04/
CATEGORIES:Gaming,Promotions
ATTACH;FMTTYPE=image/png:https://buffs.com.au/wp-content/uploads/2025/10/BUFFS-Bug-Bucks-TV-HOR-3.png
END:VEVENT
BEGIN:VEVENT
DTSTART;TZID=Australia/Brisbane:20260801T203000
DTEND;TZID=Australia/Brisbane:20260801T233000
DTSTAMP:20260422T124309
CREATED:20251023T051856Z
LAST-MODIFIED:20251023T051856Z
UID:10005422-1785616200-1785627000@buffs.com.au
SUMMARY:Earth\, Wind and Fortunes
DESCRIPTION:Time: From 9:30pm-12am \nWhen: EVERY Saturday \nEnter: Play gaming from 8:30pm with your membership card to enter \nLocation: Gaming Lounge \nExtra Details: Select a card from the prize board to win a share in up to $600 CASH
URL:https://buffs.com.au/event/earth-wind-and-fortunes/2026-08-01/
CATEGORIES:Gaming,Promotions
ATTACH;FMTTYPE=image/png:https://buffs.com.au/wp-content/uploads/2025/10/BUFFS-Earth-Wind-Fortunes-TV-HOR.png
END:VEVENT
BEGIN:VEVENT
DTSTART;TZID=Australia/Brisbane:20260731T060000
DTEND;TZID=Australia/Brisbane:20260731T200000
DTSTAMP:20260422T124309
CREATED:20260417T001640Z
LAST-MODIFIED:20260417T001750Z
UID:10006090-1785477600-1785528000@buffs.com.au
SUMMARY:Jelly Jackpot
DESCRIPTION:5 members will win up to $500 CASH EACH! On every Friday draws every half hour from 6PM. \nEntries earnt every Friday from 5PM with $10 GAMING PLAY. \nTerms and conditions apply. Gamble responsibly.
URL:https://buffs.com.au/event/jelly-jackpot/2026-07-31/
ATTACH;FMTTYPE=image/jpeg:https://buffs.com.au/wp-content/uploads/2026/04/26032026013852-BuffsClub-JellyJackpot_16x9L.jpg
END:VEVENT
BEGIN:VEVENT
DTSTART;TZID=Australia/Brisbane:20260729T170000
DTEND;TZID=Australia/Brisbane:20260729T190000
DTSTAMP:20260422T124309
CREATED:20260416T234622Z
LAST-MODIFIED:20260417T001526Z
UID:10006021-1785344400-1785351600@buffs.com.au
SUMMARY:Love of Cash
DESCRIPTION:5 members will win up to $200 CASH EACH! On every Wednesday draws every half hour from 5PM. \nEntries earnt every Wednesday from 4PM with $10 GAMING PLAY. \nTerms and conditions apply. Gamble responsibly.
URL:https://buffs.com.au/event/love-of-cash/2026-07-29/
ATTACH;FMTTYPE=image/jpeg:https://buffs.com.au/wp-content/uploads/2026/04/25032026065032-BuffsClub-FortheLoveofCash_16x9L.jpg
END:VEVENT
BEGIN:VEVENT
DTSTART;TZID=Australia/Brisbane:20260729T110000
DTEND;TZID=Australia/Brisbane:20260729T150000
DTSTAMP:20260422T124309
CREATED:20251023T051526Z
LAST-MODIFIED:20251023T051526Z
UID:10005159-1785322800-1785337200@buffs.com.au
SUMMARY:Cherry Bomb
DESCRIPTION:Time: From 1pm-3pm \nWhen: EVERY Wednesday \nEnter: Play gaming from 11am with your membership card to enter \nLocation: Gaming Lounge \nExtra Details: Roll the dice to move along the Cherry Bomb prize board and win up to $200 CASH
URL:https://buffs.com.au/event/cherry-bomb/2026-07-29/
CATEGORIES:Gaming,Promotions
ATTACH;FMTTYPE=image/png:https://buffs.com.au/wp-content/uploads/2025/10/BUFFS-Cherry-Bomb-TV-HOR-3.png
END:VEVENT
BEGIN:VEVENT
DTSTART;TZID=Australia/Brisbane:20260728T210000
DTEND;TZID=Australia/Brisbane:20260728T233000
DTSTAMP:20260422T124309
CREATED:20260402T003840Z
LAST-MODIFIED:20260402T004621Z
UID:10005777-1785272400-1785281400@buffs.com.au
SUMMARY:Late Night Moolah
DESCRIPTION:6 members will win a share of $1\,000 CASH! On the last Tuesday of the month draws every half hour from 9PM. \nEntries earnt every day from 8PM throughout the month with GAMING PLAY. \nTerms and conditions apply. Gamble responsibly.
URL:https://buffs.com.au/event/late-night-moolah/2026-07-28/
ATTACH;FMTTYPE=image/jpeg:https://buffs.com.au/wp-content/uploads/2026/04/BCMI-12_-_Late_Night_Moolah_-_16x9_Landscape.jpg
END:VEVENT
BEGIN:VEVENT
DTSTART;TZID=Australia/Brisbane:20260728T140000
DTEND;TZID=Australia/Brisbane:20260728T180000
DTSTAMP:20260422T124309
CREATED:20251023T051321Z
LAST-MODIFIED:20251023T051321Z
UID:10004896-1785247200-1785261600@buffs.com.au
SUMMARY:Bug Bucks
DESCRIPTION:Time: From 4pm-6pm \nWhen: EVERY Tuesday \nEnter: Play gaming from 2pm with your membership card to enter \nLocation: Gaming Lounge \nExtra Details: Select a card & a bug then spin the wheel to win a share in up to $350 CASH
URL:https://buffs.com.au/event/bug-bucks/2026-07-28/
CATEGORIES:Gaming,Promotions
ATTACH;FMTTYPE=image/png:https://buffs.com.au/wp-content/uploads/2025/10/BUFFS-Bug-Bucks-TV-HOR-3.png
END:VEVENT
BEGIN:VEVENT
DTSTART;TZID=UTC:20260726T120000
DTEND;TZID=UTC:20260726T203000
DTSTAMP:20260422T124309
CREATED:20240826T213732Z
LAST-MODIFIED:20240826T213732Z
UID:10003447-1785067200-1785097800@buffs.com.au
SUMMARY:Buffs Bday Bash
DESCRIPTION:Time: From 12pm\nWhen: Last Sunday of the Month\nLocation: The Buffs Club\nExtra Details: It’s celebration time! Visit us on the last Sunday of your Birthday month for Buffs’ Birthday Bash! Instant WIN Prizes from 12pm + up to $250 Cash in the 2nd Chance Draw at 8:30pm. Join in on the birthday FUN! \n*Members must be present to win
URL:https://buffs.com.au/event/buffs-bday-bash/2026-07-26/
CATEGORIES:Promotions
ATTACH;FMTTYPE=image/png:https://buffs.com.au/wp-content/uploads/2024/08/BUFFS-Buffs-Birthday-Bash-TV-HOR.png
END:VEVENT
BEGIN:VEVENT
DTSTART;TZID=Australia/Brisbane:20260725T203000
DTEND;TZID=Australia/Brisbane:20260725T233000
DTSTAMP:20260422T124309
CREATED:20251023T051856Z
LAST-MODIFIED:20251023T051856Z
UID:10005421-1785011400-1785022200@buffs.com.au
SUMMARY:Earth\, Wind and Fortunes
DESCRIPTION:Time: From 9:30pm-12am \nWhen: EVERY Saturday \nEnter: Play gaming from 8:30pm with your membership card to enter \nLocation: Gaming Lounge \nExtra Details: Select a card from the prize board to win a share in up to $600 CASH
URL:https://buffs.com.au/event/earth-wind-and-fortunes/2026-07-25/
CATEGORIES:Gaming,Promotions
ATTACH;FMTTYPE=image/png:https://buffs.com.au/wp-content/uploads/2025/10/BUFFS-Earth-Wind-Fortunes-TV-HOR.png
END:VEVENT
BEGIN:VEVENT
DTSTART;TZID=Australia/Brisbane:20260724T060000
DTEND;TZID=Australia/Brisbane:20260724T200000
DTSTAMP:20260422T124309
CREATED:20260417T001640Z
LAST-MODIFIED:20260417T001750Z
UID:10006089-1784872800-1784923200@buffs.com.au
SUMMARY:Jelly Jackpot
DESCRIPTION:5 members will win up to $500 CASH EACH! On every Friday draws every half hour from 6PM. \nEntries earnt every Friday from 5PM with $10 GAMING PLAY. \nTerms and conditions apply. Gamble responsibly.
URL:https://buffs.com.au/event/jelly-jackpot/2026-07-24/
ATTACH;FMTTYPE=image/jpeg:https://buffs.com.au/wp-content/uploads/2026/04/26032026013852-BuffsClub-JellyJackpot_16x9L.jpg
END:VEVENT
BEGIN:VEVENT
DTSTART;TZID=Australia/Brisbane:20260722T170000
DTEND;TZID=Australia/Brisbane:20260722T190000
DTSTAMP:20260422T124309
CREATED:20260416T234622Z
LAST-MODIFIED:20260417T001526Z
UID:10006020-1784739600-1784746800@buffs.com.au
SUMMARY:Love of Cash
DESCRIPTION:5 members will win up to $200 CASH EACH! On every Wednesday draws every half hour from 5PM. \nEntries earnt every Wednesday from 4PM with $10 GAMING PLAY. \nTerms and conditions apply. Gamble responsibly.
URL:https://buffs.com.au/event/love-of-cash/2026-07-22/
ATTACH;FMTTYPE=image/jpeg:https://buffs.com.au/wp-content/uploads/2026/04/25032026065032-BuffsClub-FortheLoveofCash_16x9L.jpg
END:VEVENT
BEGIN:VEVENT
DTSTART;TZID=Australia/Brisbane:20260722T110000
DTEND;TZID=Australia/Brisbane:20260722T150000
DTSTAMP:20260422T124309
CREATED:20251023T051526Z
LAST-MODIFIED:20251023T051526Z
UID:10005158-1784718000-1784732400@buffs.com.au
SUMMARY:Cherry Bomb
DESCRIPTION:Time: From 1pm-3pm \nWhen: EVERY Wednesday \nEnter: Play gaming from 11am with your membership card to enter \nLocation: Gaming Lounge \nExtra Details: Roll the dice to move along the Cherry Bomb prize board and win up to $200 CASH
URL:https://buffs.com.au/event/cherry-bomb/2026-07-22/
CATEGORIES:Gaming,Promotions
ATTACH;FMTTYPE=image/png:https://buffs.com.au/wp-content/uploads/2025/10/BUFFS-Cherry-Bomb-TV-HOR-3.png
END:VEVENT
BEGIN:VEVENT
DTSTART;TZID=Australia/Brisbane:20260721T140000
DTEND;TZID=Australia/Brisbane:20260721T180000
DTSTAMP:20260422T124309
CREATED:20251023T051321Z
LAST-MODIFIED:20251023T051321Z
UID:10004895-1784642400-1784656800@buffs.com.au
SUMMARY:Bug Bucks
DESCRIPTION:Time: From 4pm-6pm \nWhen: EVERY Tuesday \nEnter: Play gaming from 2pm with your membership card to enter \nLocation: Gaming Lounge \nExtra Details: Select a card & a bug then spin the wheel to win a share in up to $350 CASH
URL:https://buffs.com.au/event/bug-bucks/2026-07-21/
CATEGORIES:Gaming,Promotions
ATTACH;FMTTYPE=image/png:https://buffs.com.au/wp-content/uploads/2025/10/BUFFS-Bug-Bucks-TV-HOR-3.png
END:VEVENT
END:VCALENDAR