BEGIN:VCALENDAR
VERSION:2.0
PRODID:-//Buffs Club Mount Isa - ECPv6.15.20//NONSGML v1.0//EN
CALSCALE:GREGORIAN
METHOD:PUBLISH
X-WR-CALNAME:Buffs Club Mount Isa
X-ORIGINAL-URL:https://buffs.com.au
X-WR-CALDESC:Events for Buffs Club Mount Isa
REFRESH-INTERVAL;VALUE=DURATION:PT1H
X-Robots-Tag:noindex
X-PUBLISHED-TTL:PT1H
BEGIN:VTIMEZONE
TZID:Australia/Brisbane
BEGIN:STANDARD
TZOFFSETFROM:+1000
TZOFFSETTO:+1000
TZNAME:AEST
DTSTART:20250101T000000
END:STANDARD
END:VTIMEZONE
BEGIN:VEVENT
DTSTART;TZID=Australia/Brisbane:20260530T150000
DTEND;TZID=Australia/Brisbane:20260530T180000
DTSTAMP:20260424T060908
CREATED:20260402T003755Z
LAST-MODIFIED:20260402T005037Z
UID:10005867-1780153200-1780164000@buffs.com.au
SUMMARY:Cash Craze
DESCRIPTION:$3\,000 CASH is up for grabs each week! At 3pm every Sunday from 6th April until 31st May\, you could go in the draw to win a share!\nEntries earnt via gaming play or food and beverage spend. T&C’s apply.
URL:https://buffs.com.au/event/cash-craze/2026-05-30/
CATEGORIES:Promotions
ATTACH;FMTTYPE=image/jpeg:https://buffs.com.au/wp-content/uploads/2026/04/01042026014056-BCMI-13CashCraze_TVL.jpg
END:VEVENT
BEGIN:VEVENT
DTSTART;TZID=Australia/Brisbane:20260529T060000
DTEND;TZID=Australia/Brisbane:20260529T200000
DTSTAMP:20260424T060908
CREATED:20260417T001640Z
LAST-MODIFIED:20260417T001750Z
UID:10006081-1780034400-1780084800@buffs.com.au
SUMMARY:Jelly Jackpot
DESCRIPTION:5 members will win up to $500 CASH EACH! On every Friday draws every half hour from 6PM. \nEntries earnt every Friday from 5PM with $10 GAMING PLAY. \nTerms and conditions apply. Gamble responsibly.
URL:https://buffs.com.au/event/jelly-jackpot/2026-05-29/
ATTACH;FMTTYPE=image/jpeg:https://buffs.com.au/wp-content/uploads/2026/04/26032026013852-BuffsClub-JellyJackpot_16x9L.jpg
END:VEVENT
BEGIN:VEVENT
DTSTART;TZID=Australia/Brisbane:20260527T170000
DTEND;TZID=Australia/Brisbane:20260527T190000
DTSTAMP:20260424T060908
CREATED:20260416T234622Z
LAST-MODIFIED:20260417T001526Z
UID:10006012-1779901200-1779908400@buffs.com.au
SUMMARY:Love of Cash
DESCRIPTION:5 members will win up to $200 CASH EACH! On every Wednesday draws every half hour from 5PM. \nEntries earnt every Wednesday from 4PM with $10 GAMING PLAY. \nTerms and conditions apply. Gamble responsibly.
URL:https://buffs.com.au/event/love-of-cash/2026-05-27/
ATTACH;FMTTYPE=image/jpeg:https://buffs.com.au/wp-content/uploads/2026/04/25032026065032-BuffsClub-FortheLoveofCash_16x9L.jpg
END:VEVENT
BEGIN:VEVENT
DTSTART;TZID=Australia/Brisbane:20260527T110000
DTEND;TZID=Australia/Brisbane:20260527T150000
DTSTAMP:20260424T060908
CREATED:20251023T051526Z
LAST-MODIFIED:20251023T051526Z
UID:10005150-1779879600-1779894000@buffs.com.au
SUMMARY:Cherry Bomb
DESCRIPTION:Time: From 1pm-3pm \nWhen: EVERY Wednesday \nEnter: Play gaming from 11am with your membership card to enter \nLocation: Gaming Lounge \nExtra Details: Roll the dice to move along the Cherry Bomb prize board and win up to $200 CASH
URL:https://buffs.com.au/event/cherry-bomb/2026-05-27/
CATEGORIES:Gaming,Promotions
ATTACH;FMTTYPE=image/png:https://buffs.com.au/wp-content/uploads/2025/10/BUFFS-Cherry-Bomb-TV-HOR-3.png
END:VEVENT
BEGIN:VEVENT
DTSTART;TZID=Australia/Brisbane:20260526T210000
DTEND;TZID=Australia/Brisbane:20260526T233000
DTSTAMP:20260424T060908
CREATED:20260402T003840Z
LAST-MODIFIED:20260402T004621Z
UID:10005775-1779829200-1779838200@buffs.com.au
SUMMARY:Late Night Moolah
DESCRIPTION:6 members will win a share of $1\,000 CASH! On the last Tuesday of the month draws every half hour from 9PM. \nEntries earnt every day from 8PM throughout the month with GAMING PLAY. \nTerms and conditions apply. Gamble responsibly.
URL:https://buffs.com.au/event/late-night-moolah/2026-05-26/
ATTACH;FMTTYPE=image/jpeg:https://buffs.com.au/wp-content/uploads/2026/04/BCMI-12_-_Late_Night_Moolah_-_16x9_Landscape.jpg
END:VEVENT
BEGIN:VEVENT
DTSTART;TZID=Australia/Brisbane:20260526T140000
DTEND;TZID=Australia/Brisbane:20260526T180000
DTSTAMP:20260424T060908
CREATED:20251023T051321Z
LAST-MODIFIED:20251023T051321Z
UID:10004887-1779804000-1779818400@buffs.com.au
SUMMARY:Bug Bucks
DESCRIPTION:Time: From 4pm-6pm \nWhen: EVERY Tuesday \nEnter: Play gaming from 2pm with your membership card to enter \nLocation: Gaming Lounge \nExtra Details: Select a card & a bug then spin the wheel to win a share in up to $350 CASH
URL:https://buffs.com.au/event/bug-bucks/2026-05-26/
CATEGORIES:Gaming,Promotions
ATTACH;FMTTYPE=image/png:https://buffs.com.au/wp-content/uploads/2025/10/BUFFS-Bug-Bucks-TV-HOR-3.png
END:VEVENT
BEGIN:VEVENT
DTSTART;TZID=Australia/Brisbane:20260524T150000
DTEND;TZID=Australia/Brisbane:20260524T180000
DTSTAMP:20260424T060908
CREATED:20260402T003755Z
LAST-MODIFIED:20260402T005037Z
UID:10005866-1779634800-1779645600@buffs.com.au
SUMMARY:Cash Craze
DESCRIPTION:$3\,000 CASH is up for grabs each week! At 3pm every Sunday from 6th April until 31st May\, you could go in the draw to win a share!\nEntries earnt via gaming play or food and beverage spend. T&C’s apply.
URL:https://buffs.com.au/event/cash-craze/2026-05-24/
CATEGORIES:Promotions
ATTACH;FMTTYPE=image/jpeg:https://buffs.com.au/wp-content/uploads/2026/04/01042026014056-BCMI-13CashCraze_TVL.jpg
END:VEVENT
BEGIN:VEVENT
DTSTART;TZID=Australia/Brisbane:20260523T203000
DTEND;TZID=Australia/Brisbane:20260523T233000
DTSTAMP:20260424T060908
CREATED:20251023T051856Z
LAST-MODIFIED:20251023T051856Z
UID:10005412-1779568200-1779579000@buffs.com.au
SUMMARY:Earth\, Wind and Fortunes
DESCRIPTION:Time: From 9:30pm-12am \nWhen: EVERY Saturday \nEnter: Play gaming from 8:30pm with your membership card to enter \nLocation: Gaming Lounge \nExtra Details: Select a card from the prize board to win a share in up to $600 CASH
URL:https://buffs.com.au/event/earth-wind-and-fortunes/2026-05-23/
CATEGORIES:Gaming,Promotions
ATTACH;FMTTYPE=image/png:https://buffs.com.au/wp-content/uploads/2025/10/BUFFS-Earth-Wind-Fortunes-TV-HOR.png
END:VEVENT
BEGIN:VEVENT
DTSTART;TZID=Australia/Brisbane:20260523T150000
DTEND;TZID=Australia/Brisbane:20260523T180000
DTSTAMP:20260424T060908
CREATED:20260402T003755Z
LAST-MODIFIED:20260402T005037Z
UID:10005865-1779548400-1779559200@buffs.com.au
SUMMARY:Cash Craze
DESCRIPTION:$3\,000 CASH is up for grabs each week! At 3pm every Sunday from 6th April until 31st May\, you could go in the draw to win a share!\nEntries earnt via gaming play or food and beverage spend. T&C’s apply.
URL:https://buffs.com.au/event/cash-craze/2026-05-23/
CATEGORIES:Promotions
ATTACH;FMTTYPE=image/jpeg:https://buffs.com.au/wp-content/uploads/2026/04/01042026014056-BCMI-13CashCraze_TVL.jpg
END:VEVENT
BEGIN:VEVENT
DTSTART;TZID=Australia/Brisbane:20260522T060000
DTEND;TZID=Australia/Brisbane:20260522T200000
DTSTAMP:20260424T060908
CREATED:20260417T001640Z
LAST-MODIFIED:20260417T001750Z
UID:10006080-1779429600-1779480000@buffs.com.au
SUMMARY:Jelly Jackpot
DESCRIPTION:5 members will win up to $500 CASH EACH! On every Friday draws every half hour from 6PM. \nEntries earnt every Friday from 5PM with $10 GAMING PLAY. \nTerms and conditions apply. Gamble responsibly.
URL:https://buffs.com.au/event/jelly-jackpot/2026-05-22/
ATTACH;FMTTYPE=image/jpeg:https://buffs.com.au/wp-content/uploads/2026/04/26032026013852-BuffsClub-JellyJackpot_16x9L.jpg
END:VEVENT
BEGIN:VEVENT
DTSTART;TZID=Australia/Brisbane:20260520T170000
DTEND;TZID=Australia/Brisbane:20260520T190000
DTSTAMP:20260424T060908
CREATED:20260416T234622Z
LAST-MODIFIED:20260417T001526Z
UID:10006011-1779296400-1779303600@buffs.com.au
SUMMARY:Love of Cash
DESCRIPTION:5 members will win up to $200 CASH EACH! On every Wednesday draws every half hour from 5PM. \nEntries earnt every Wednesday from 4PM with $10 GAMING PLAY. \nTerms and conditions apply. Gamble responsibly.
URL:https://buffs.com.au/event/love-of-cash/2026-05-20/
ATTACH;FMTTYPE=image/jpeg:https://buffs.com.au/wp-content/uploads/2026/04/25032026065032-BuffsClub-FortheLoveofCash_16x9L.jpg
END:VEVENT
BEGIN:VEVENT
DTSTART;TZID=Australia/Brisbane:20260520T110000
DTEND;TZID=Australia/Brisbane:20260520T150000
DTSTAMP:20260424T060908
CREATED:20251023T051526Z
LAST-MODIFIED:20251023T051526Z
UID:10005149-1779274800-1779289200@buffs.com.au
SUMMARY:Cherry Bomb
DESCRIPTION:Time: From 1pm-3pm \nWhen: EVERY Wednesday \nEnter: Play gaming from 11am with your membership card to enter \nLocation: Gaming Lounge \nExtra Details: Roll the dice to move along the Cherry Bomb prize board and win up to $200 CASH
URL:https://buffs.com.au/event/cherry-bomb/2026-05-20/
CATEGORIES:Gaming,Promotions
ATTACH;FMTTYPE=image/png:https://buffs.com.au/wp-content/uploads/2025/10/BUFFS-Cherry-Bomb-TV-HOR-3.png
END:VEVENT
BEGIN:VEVENT
DTSTART;TZID=Australia/Brisbane:20260519T140000
DTEND;TZID=Australia/Brisbane:20260519T180000
DTSTAMP:20260424T060908
CREATED:20251023T051321Z
LAST-MODIFIED:20251023T051321Z
UID:10004886-1779199200-1779213600@buffs.com.au
SUMMARY:Bug Bucks
DESCRIPTION:Time: From 4pm-6pm \nWhen: EVERY Tuesday \nEnter: Play gaming from 2pm with your membership card to enter \nLocation: Gaming Lounge \nExtra Details: Select a card & a bug then spin the wheel to win a share in up to $350 CASH
URL:https://buffs.com.au/event/bug-bucks/2026-05-19/
CATEGORIES:Gaming,Promotions
ATTACH;FMTTYPE=image/png:https://buffs.com.au/wp-content/uploads/2025/10/BUFFS-Bug-Bucks-TV-HOR-3.png
END:VEVENT
BEGIN:VEVENT
DTSTART;TZID=Australia/Brisbane:20260517T150000
DTEND;TZID=Australia/Brisbane:20260517T180000
DTSTAMP:20260424T060908
CREATED:20260402T003755Z
LAST-MODIFIED:20260402T005037Z
UID:10005864-1779030000-1779040800@buffs.com.au
SUMMARY:Cash Craze
DESCRIPTION:$3\,000 CASH is up for grabs each week! At 3pm every Sunday from 6th April until 31st May\, you could go in the draw to win a share!\nEntries earnt via gaming play or food and beverage spend. T&C’s apply.
URL:https://buffs.com.au/event/cash-craze/2026-05-17/
CATEGORIES:Promotions
ATTACH;FMTTYPE=image/jpeg:https://buffs.com.au/wp-content/uploads/2026/04/01042026014056-BCMI-13CashCraze_TVL.jpg
END:VEVENT
BEGIN:VEVENT
DTSTART;TZID=Australia/Brisbane:20260516T203000
DTEND;TZID=Australia/Brisbane:20260516T233000
DTSTAMP:20260424T060908
CREATED:20251023T051856Z
LAST-MODIFIED:20251023T051856Z
UID:10005411-1778963400-1778974200@buffs.com.au
SUMMARY:Earth\, Wind and Fortunes
DESCRIPTION:Time: From 9:30pm-12am \nWhen: EVERY Saturday \nEnter: Play gaming from 8:30pm with your membership card to enter \nLocation: Gaming Lounge \nExtra Details: Select a card from the prize board to win a share in up to $600 CASH
URL:https://buffs.com.au/event/earth-wind-and-fortunes/2026-05-16/
CATEGORIES:Gaming,Promotions
ATTACH;FMTTYPE=image/png:https://buffs.com.au/wp-content/uploads/2025/10/BUFFS-Earth-Wind-Fortunes-TV-HOR.png
END:VEVENT
BEGIN:VEVENT
DTSTART;TZID=Australia/Brisbane:20260516T150000
DTEND;TZID=Australia/Brisbane:20260516T180000
DTSTAMP:20260424T060908
CREATED:20260402T003755Z
LAST-MODIFIED:20260402T005037Z
UID:10005863-1778943600-1778954400@buffs.com.au
SUMMARY:Cash Craze
DESCRIPTION:$3\,000 CASH is up for grabs each week! At 3pm every Sunday from 6th April until 31st May\, you could go in the draw to win a share!\nEntries earnt via gaming play or food and beverage spend. T&C’s apply.
URL:https://buffs.com.au/event/cash-craze/2026-05-16/
CATEGORIES:Promotions
ATTACH;FMTTYPE=image/jpeg:https://buffs.com.au/wp-content/uploads/2026/04/01042026014056-BCMI-13CashCraze_TVL.jpg
END:VEVENT
BEGIN:VEVENT
DTSTART;TZID=Australia/Brisbane:20260515T060000
DTEND;TZID=Australia/Brisbane:20260515T200000
DTSTAMP:20260424T060908
CREATED:20260417T001640Z
LAST-MODIFIED:20260417T001750Z
UID:10006079-1778824800-1778875200@buffs.com.au
SUMMARY:Jelly Jackpot
DESCRIPTION:5 members will win up to $500 CASH EACH! On every Friday draws every half hour from 6PM. \nEntries earnt every Friday from 5PM with $10 GAMING PLAY. \nTerms and conditions apply. Gamble responsibly.
URL:https://buffs.com.au/event/jelly-jackpot/2026-05-15/
ATTACH;FMTTYPE=image/jpeg:https://buffs.com.au/wp-content/uploads/2026/04/26032026013852-BuffsClub-JellyJackpot_16x9L.jpg
END:VEVENT
BEGIN:VEVENT
DTSTART;TZID=Australia/Brisbane:20260513T170000
DTEND;TZID=Australia/Brisbane:20260513T190000
DTSTAMP:20260424T060908
CREATED:20260416T234622Z
LAST-MODIFIED:20260417T001526Z
UID:10006010-1778691600-1778698800@buffs.com.au
SUMMARY:Love of Cash
DESCRIPTION:5 members will win up to $200 CASH EACH! On every Wednesday draws every half hour from 5PM. \nEntries earnt every Wednesday from 4PM with $10 GAMING PLAY. \nTerms and conditions apply. Gamble responsibly.
URL:https://buffs.com.au/event/love-of-cash/2026-05-13/
ATTACH;FMTTYPE=image/jpeg:https://buffs.com.au/wp-content/uploads/2026/04/25032026065032-BuffsClub-FortheLoveofCash_16x9L.jpg
END:VEVENT
BEGIN:VEVENT
DTSTART;TZID=Australia/Brisbane:20260513T110000
DTEND;TZID=Australia/Brisbane:20260513T150000
DTSTAMP:20260424T060908
CREATED:20251023T051526Z
LAST-MODIFIED:20251023T051526Z
UID:10005148-1778670000-1778684400@buffs.com.au
SUMMARY:Cherry Bomb
DESCRIPTION:Time: From 1pm-3pm \nWhen: EVERY Wednesday \nEnter: Play gaming from 11am with your membership card to enter \nLocation: Gaming Lounge \nExtra Details: Roll the dice to move along the Cherry Bomb prize board and win up to $200 CASH
URL:https://buffs.com.au/event/cherry-bomb/2026-05-13/
CATEGORIES:Gaming,Promotions
ATTACH;FMTTYPE=image/png:https://buffs.com.au/wp-content/uploads/2025/10/BUFFS-Cherry-Bomb-TV-HOR-3.png
END:VEVENT
BEGIN:VEVENT
DTSTART;TZID=Australia/Brisbane:20260512T140000
DTEND;TZID=Australia/Brisbane:20260512T180000
DTSTAMP:20260424T060908
CREATED:20251023T051321Z
LAST-MODIFIED:20251023T051321Z
UID:10004885-1778594400-1778608800@buffs.com.au
SUMMARY:Bug Bucks
DESCRIPTION:Time: From 4pm-6pm \nWhen: EVERY Tuesday \nEnter: Play gaming from 2pm with your membership card to enter \nLocation: Gaming Lounge \nExtra Details: Select a card & a bug then spin the wheel to win a share in up to $350 CASH
URL:https://buffs.com.au/event/bug-bucks/2026-05-12/
CATEGORIES:Gaming,Promotions
ATTACH;FMTTYPE=image/png:https://buffs.com.au/wp-content/uploads/2025/10/BUFFS-Bug-Bucks-TV-HOR-3.png
END:VEVENT
BEGIN:VEVENT
DTSTART;TZID=Australia/Brisbane:20260510T150000
DTEND;TZID=Australia/Brisbane:20260510T180000
DTSTAMP:20260424T060908
CREATED:20260402T003755Z
LAST-MODIFIED:20260402T005037Z
UID:10005862-1778425200-1778436000@buffs.com.au
SUMMARY:Cash Craze
DESCRIPTION:$3\,000 CASH is up for grabs each week! At 3pm every Sunday from 6th April until 31st May\, you could go in the draw to win a share!\nEntries earnt via gaming play or food and beverage spend. T&C’s apply.
URL:https://buffs.com.au/event/cash-craze/2026-05-10/
CATEGORIES:Promotions
ATTACH;FMTTYPE=image/jpeg:https://buffs.com.au/wp-content/uploads/2026/04/01042026014056-BCMI-13CashCraze_TVL.jpg
END:VEVENT
BEGIN:VEVENT
DTSTART;TZID=Australia/Brisbane:20260510T070000
DTEND;TZID=Australia/Brisbane:20260510T233000
DTSTAMP:20260424T060908
CREATED:20260417T001340Z
LAST-MODIFIED:20260422T222220Z
UID:10005869-1778396400-1778455800@buffs.com.au
SUMMARY:Mother's Day Buffet Breakfast
DESCRIPTION:Don’t miss a delicious Mother’s Day Buffet Breakfast at The Buffs Club! 🥞🌻Join us on Sunday 10th May 2026 and treat your family and friends to a scrumptious breaky! \nSelect your session – 7am to 9am or 9:30am to 11:30am\n$52 Members | $57 Guests | $22 Pensioners | $25 Children (free for kids 5 & under) \n🍽️🥐🥓 Sweet & savoury crepe station\, eggs benedict station\, pancakes\, waffles\, eggs\, bacon\, mushrooms\, hash browns\, yoghurt\, fresh fruit\, pastries and more! Tea\, coffee and juice included ☕ \nBook early to avoid missing out! Click here to book online – https://shorturl.at/9DwN4
URL:https://buffs.com.au/event/2026-mothers-day-buffet-breakfast/
CATEGORIES:Events
ATTACH;FMTTYPE=image/jpeg:https://buffs.com.au/wp-content/uploads/2026/04/15042026025352-BuffsClub-MothersDayBuffetBreakfastTVL.jpg
END:VEVENT
BEGIN:VEVENT
DTSTART;TZID=Australia/Brisbane:20260509T203000
DTEND;TZID=Australia/Brisbane:20260509T233000
DTSTAMP:20260424T060908
CREATED:20251023T051856Z
LAST-MODIFIED:20251023T051856Z
UID:10005410-1778358600-1778369400@buffs.com.au
SUMMARY:Earth\, Wind and Fortunes
DESCRIPTION:Time: From 9:30pm-12am \nWhen: EVERY Saturday \nEnter: Play gaming from 8:30pm with your membership card to enter \nLocation: Gaming Lounge \nExtra Details: Select a card from the prize board to win a share in up to $600 CASH
URL:https://buffs.com.au/event/earth-wind-and-fortunes/2026-05-09/
CATEGORIES:Gaming,Promotions
ATTACH;FMTTYPE=image/png:https://buffs.com.au/wp-content/uploads/2025/10/BUFFS-Earth-Wind-Fortunes-TV-HOR.png
END:VEVENT
BEGIN:VEVENT
DTSTART;TZID=Australia/Brisbane:20260509T150000
DTEND;TZID=Australia/Brisbane:20260509T180000
DTSTAMP:20260424T060908
CREATED:20260402T003755Z
LAST-MODIFIED:20260402T005037Z
UID:10005861-1778338800-1778349600@buffs.com.au
SUMMARY:Cash Craze
DESCRIPTION:$3\,000 CASH is up for grabs each week! At 3pm every Sunday from 6th April until 31st May\, you could go in the draw to win a share!\nEntries earnt via gaming play or food and beverage spend. T&C’s apply.
URL:https://buffs.com.au/event/cash-craze/2026-05-09/
CATEGORIES:Promotions
ATTACH;FMTTYPE=image/jpeg:https://buffs.com.au/wp-content/uploads/2026/04/01042026014056-BCMI-13CashCraze_TVL.jpg
END:VEVENT
BEGIN:VEVENT
DTSTART;TZID=Australia/Brisbane:20260508T060000
DTEND;TZID=Australia/Brisbane:20260508T200000
DTSTAMP:20260424T060908
CREATED:20260417T001640Z
LAST-MODIFIED:20260417T001750Z
UID:10006078-1778220000-1778270400@buffs.com.au
SUMMARY:Jelly Jackpot
DESCRIPTION:5 members will win up to $500 CASH EACH! On every Friday draws every half hour from 6PM. \nEntries earnt every Friday from 5PM with $10 GAMING PLAY. \nTerms and conditions apply. Gamble responsibly.
URL:https://buffs.com.au/event/jelly-jackpot/2026-05-08/
ATTACH;FMTTYPE=image/jpeg:https://buffs.com.au/wp-content/uploads/2026/04/26032026013852-BuffsClub-JellyJackpot_16x9L.jpg
END:VEVENT
BEGIN:VEVENT
DTSTART;TZID=Australia/Brisbane:20260506T170000
DTEND;TZID=Australia/Brisbane:20260506T190000
DTSTAMP:20260424T060908
CREATED:20260416T234622Z
LAST-MODIFIED:20260417T001526Z
UID:10006009-1778086800-1778094000@buffs.com.au
SUMMARY:Love of Cash
DESCRIPTION:5 members will win up to $200 CASH EACH! On every Wednesday draws every half hour from 5PM. \nEntries earnt every Wednesday from 4PM with $10 GAMING PLAY. \nTerms and conditions apply. Gamble responsibly.
URL:https://buffs.com.au/event/love-of-cash/2026-05-06/
ATTACH;FMTTYPE=image/jpeg:https://buffs.com.au/wp-content/uploads/2026/04/25032026065032-BuffsClub-FortheLoveofCash_16x9L.jpg
END:VEVENT
BEGIN:VEVENT
DTSTART;TZID=Australia/Brisbane:20260506T110000
DTEND;TZID=Australia/Brisbane:20260506T150000
DTSTAMP:20260424T060908
CREATED:20251023T051526Z
LAST-MODIFIED:20251023T051526Z
UID:10005147-1778065200-1778079600@buffs.com.au
SUMMARY:Cherry Bomb
DESCRIPTION:Time: From 1pm-3pm \nWhen: EVERY Wednesday \nEnter: Play gaming from 11am with your membership card to enter \nLocation: Gaming Lounge \nExtra Details: Roll the dice to move along the Cherry Bomb prize board and win up to $200 CASH
URL:https://buffs.com.au/event/cherry-bomb/2026-05-06/
CATEGORIES:Gaming,Promotions
ATTACH;FMTTYPE=image/png:https://buffs.com.au/wp-content/uploads/2025/10/BUFFS-Cherry-Bomb-TV-HOR-3.png
END:VEVENT
BEGIN:VEVENT
DTSTART;TZID=Australia/Brisbane:20260505T140000
DTEND;TZID=Australia/Brisbane:20260505T180000
DTSTAMP:20260424T060908
CREATED:20251023T051321Z
LAST-MODIFIED:20251023T051321Z
UID:10004884-1777989600-1778004000@buffs.com.au
SUMMARY:Bug Bucks
DESCRIPTION:Time: From 4pm-6pm \nWhen: EVERY Tuesday \nEnter: Play gaming from 2pm with your membership card to enter \nLocation: Gaming Lounge \nExtra Details: Select a card & a bug then spin the wheel to win a share in up to $350 CASH
URL:https://buffs.com.au/event/bug-bucks/2026-05-05/
CATEGORIES:Gaming,Promotions
ATTACH;FMTTYPE=image/png:https://buffs.com.au/wp-content/uploads/2025/10/BUFFS-Bug-Bucks-TV-HOR-3.png
END:VEVENT
BEGIN:VEVENT
DTSTART;TZID=Australia/Brisbane:20260503T150000
DTEND;TZID=Australia/Brisbane:20260503T180000
DTSTAMP:20260424T060908
CREATED:20260402T003755Z
LAST-MODIFIED:20260402T005037Z
UID:10005860-1777820400-1777831200@buffs.com.au
SUMMARY:Cash Craze
DESCRIPTION:$3\,000 CASH is up for grabs each week! At 3pm every Sunday from 6th April until 31st May\, you could go in the draw to win a share!\nEntries earnt via gaming play or food and beverage spend. T&C’s apply.
URL:https://buffs.com.au/event/cash-craze/2026-05-03/
CATEGORIES:Promotions
ATTACH;FMTTYPE=image/jpeg:https://buffs.com.au/wp-content/uploads/2026/04/01042026014056-BCMI-13CashCraze_TVL.jpg
END:VEVENT
BEGIN:VEVENT
DTSTART;TZID=Australia/Brisbane:20260502T203000
DTEND;TZID=Australia/Brisbane:20260502T233000
DTSTAMP:20260424T060908
CREATED:20251023T051856Z
LAST-MODIFIED:20251023T051856Z
UID:10005409-1777753800-1777764600@buffs.com.au
SUMMARY:Earth\, Wind and Fortunes
DESCRIPTION:Time: From 9:30pm-12am \nWhen: EVERY Saturday \nEnter: Play gaming from 8:30pm with your membership card to enter \nLocation: Gaming Lounge \nExtra Details: Select a card from the prize board to win a share in up to $600 CASH
URL:https://buffs.com.au/event/earth-wind-and-fortunes/2026-05-02/
CATEGORIES:Gaming,Promotions
ATTACH;FMTTYPE=image/png:https://buffs.com.au/wp-content/uploads/2025/10/BUFFS-Earth-Wind-Fortunes-TV-HOR.png
END:VEVENT
END:VCALENDAR